BEGIN:VCALENDAR
VERSION:2.0
PRODID:icalendar-ruby
CALSCALE:GREGORIAN
BEGIN:VTIMEZONE
TZID:America/Chicago
BEGIN:DAYLIGHT
DTSTART:20260308T030000
TZOFFSETFROM:-0600
TZOFFSETTO:-0500
RRULE:FREQ=YEARLY;BYDAY=2SU;BYMONTH=3
TZNAME:CDT
END:DAYLIGHT
BEGIN:STANDARD
DTSTART:20261101T010000
TZOFFSETFROM:-0500
TZOFFSETTO:-0600
RRULE:FREQ=YEARLY;BYDAY=1SU;BYMONTH=11
TZNAME:CST
END:STANDARD
END:VTIMEZONE
BEGIN:VEVENT
DTSTAMP;TZID=America/Chicago:20260424T104942
UID:221321@calendar.wisc.edu
DTSTART;TZID=America/Chicago:20260508T190000
DTEND;TZID=America/Chicago:20260508T200000
DESCRIPTION:The Funkee JBeez is a music ensemble based out of Madison Wisco
 nsin that is led by award-winning drummer Joey B. Banks. The band is made 
 up of some of the best musicians in the midwest and performs Jazz\, Funk\,
  Soul\, Pop\, and R&amp\;B music from the 70's to the present. The band is
  best known for their high-energy Clyde Stubblefield tribute that features
  the song "The Funky Drummer" performed with James Brown. The band perform
 s shows and festivals around the Madison WI. area and Midwest region.\n\nC
 ONTACT: music@union.wisc.edu\n\nURL: https://union.wisc.edu/events-and-act
 ivities/event-calendar/event/funkee-jbeez-0
LOCATION:The Terrace (See Event Details)\, Memorial Union
SUMMARY:The Funkee JBeez
URL;VALUE=URI:https://union.wisc.edu/events-and-activities/event-calendar/e
 vent/funkee-jbeez-0
END:VEVENT
END:VCALENDAR

