BEGIN:VCALENDAR
VERSION:2.0
PRODID:icalendar-ruby
CALSCALE:GREGORIAN
BEGIN:VTIMEZONE
TZID:America/Chicago
BEGIN:DAYLIGHT
DTSTART:20260308T030000
TZOFFSETFROM:-0600
TZOFFSETTO:-0500
RRULE:FREQ=YEARLY;BYDAY=2SU;BYMONTH=3
TZNAME:CDT
END:DAYLIGHT
BEGIN:STANDARD
DTSTART:20261101T010000
TZOFFSETFROM:-0500
TZOFFSETTO:-0600
RRULE:FREQ=YEARLY;BYDAY=1SU;BYMONTH=11
TZNAME:CST
END:STANDARD
END:VTIMEZONE
BEGIN:VEVENT
DTSTAMP;TZID=America/Chicago:20260424T104942
UID:221323@calendar.wisc.edu
DTSTART;TZID=America/Chicago:20260509T120000
DTEND;TZID=America/Chicago:20260509T133000
DESCRIPTION:Enjoy the Camp Randall Stadium Bachelor’s\, Master’s\, and 
 Law Degree Candidate graduation ceremony live in the Sett Pub. Dining opti
 ons available!\n\nURL: https://union.wisc.edu/events-and-activities/event-
 calendar/event/grad-watch-union-south-4
LOCATION:The Sett Pub\, Union South
SUMMARY:Grad Watch at Union South
URL;VALUE=URI:https://union.wisc.edu/events-and-activities/event-calendar/e
 vent/grad-watch-union-south-4
END:VEVENT
END:VCALENDAR

