BEGIN:VCALENDAR
VERSION:2.0
PRODID:icalendar-ruby
CALSCALE:GREGORIAN
BEGIN:VTIMEZONE
TZID:America/Chicago
BEGIN:DAYLIGHT
DTSTART:20260308T030000
TZOFFSETFROM:-0600
TZOFFSETTO:-0500
RRULE:FREQ=YEARLY;BYDAY=2SU;BYMONTH=3
TZNAME:CDT
END:DAYLIGHT
BEGIN:STANDARD
DTSTART:20261101T010000
TZOFFSETFROM:-0500
TZOFFSETTO:-0600
RRULE:FREQ=YEARLY;BYDAY=1SU;BYMONTH=11
TZNAME:CST
END:STANDARD
END:VTIMEZONE
BEGIN:VEVENT
DTSTAMP;TZID=America/Chicago:20260424T104942
UID:221324@calendar.wisc.edu
DTSTART;TZID=America/Chicago:20260509T190000
DTEND;TZID=America/Chicago:20260509T200000
DESCRIPTION:The Mersey Brothers featuring Sean Michael Dargan play 80's New
  Wave &amp\; College Rock covers. The Smiths\, REM\, U2\, The Cure\, The P
 retenders\, Elvis Costello\, Nick Lowe\, The Knack\, etc.\n\nCONTACT: musi
 c@union.wisc.edu\n\nURL: https://union.wisc.edu/events-and-activities/even
 t-calendar/event/mersey-brothers-featuring-sean-michael-dargan-2
LOCATION:The Terrace (See Event Details)\, Memorial Union
SUMMARY:The Mersey Brothers featuring Sean Michael Dargan
URL;VALUE=URI:https://union.wisc.edu/events-and-activities/event-calendar/e
 vent/mersey-brothers-featuring-sean-michael-dargan-2
END:VEVENT
END:VCALENDAR

