BEGIN:VCALENDAR
VERSION:2.0
PRODID:icalendar-ruby
CALSCALE:GREGORIAN
BEGIN:VTIMEZONE
TZID:America/Chicago
BEGIN:DAYLIGHT
DTSTART:20260308T030000
TZOFFSETFROM:-0600
TZOFFSETTO:-0500
RRULE:FREQ=YEARLY;BYDAY=2SU;BYMONTH=3
TZNAME:CDT
END:DAYLIGHT
BEGIN:STANDARD
DTSTART:20261101T010000
TZOFFSETFROM:-0500
TZOFFSETTO:-0600
RRULE:FREQ=YEARLY;BYDAY=1SU;BYMONTH=11
TZNAME:CST
END:STANDARD
END:VTIMEZONE
BEGIN:VEVENT
DTSTAMP;TZID=America/Chicago:20260424T180754
UID:221335@calendar.wisc.edu
DTSTART;TZID=America/Chicago:20260624T173000
DTEND;TZID=America/Chicago:20260624T183000
DESCRIPTION:Presenter: Eric Carson. This is a free\, in-person talk hosted 
 on June 25\, 2026 at 5:30 PM by Sparta Free Library in Sparta\, WI. No reg
 istration necessary for this event. This talk will not be held virtually. 
 \n\nJoin professional Geologist for UW-Madison\, Eric Carson\, to learn al
 l about how he maps the Driftless! The Driftless Area is one of the most d
 istinctive geological regions in the U.S. It remained unglaciated which le
 d to its preserved older valleys and ridgelines that were erased elsewhere
 .\n\nCONTACT: 263-7793\, badgertalks@uwmad.wisc.edu\n\nURL: https://www.fa
 cebook.com/share/1CTuwrydS4/
LOCATION:124 W Main St\, Sparta\, WI 54656-1755\, United States
SUMMARY:"Mapping the Driftless": In-Person Badger Talk in Sparta\, WI
URL;VALUE=URI:https://www.facebook.com/share/1CTuwrydS4/
END:VEVENT
END:VCALENDAR

