BEGIN:VCALENDAR
VERSION:2.0
PRODID:icalendar-ruby
CALSCALE:GREGORIAN
BEGIN:VTIMEZONE
TZID:America/Chicago
BEGIN:DAYLIGHT
DTSTART:20260308T030000
TZOFFSETFROM:-0600
TZOFFSETTO:-0500
RRULE:FREQ=YEARLY;BYDAY=2SU;BYMONTH=3
TZNAME:CDT
END:DAYLIGHT
BEGIN:STANDARD
DTSTART:20261101T010000
TZOFFSETFROM:-0500
TZOFFSETTO:-0600
RRULE:FREQ=YEARLY;BYDAY=1SU;BYMONTH=11
TZNAME:CST
END:STANDARD
END:VTIMEZONE
BEGIN:VEVENT
DTSTAMP;TZID=America/Chicago:20260424T192156
UID:221348@calendar.wisc.edu
DTSTART;TZID=America/Chicago:20260725T210000
DTEND;TZID=America/Chicago:20260725T220000
DESCRIPTION:Presenter: Jodie Kiyokawa. Join presenter Jodie Kiyokawa on Jul
 y 25\, 2026\, at 9:00 PM at Roche-A-Cri State Park for a Universe in the P
 ark program in Friendship\, WI. With questions\, please contact the park's
  office at 608-339-688. Enjoy a 30–40 minute astronomy talk at sunset fo
 llowed by telescope viewing\, weather permitting. Great for ages 8+ (talk)
  and 4+ (viewing).\n\nCONTACT: 263-7793\, badgertalks@uwmad.wisc.edu\n\nUR
 L: https://www.facebook.com/share/184kBAV281/
LOCATION:1767 Hwy 13\, Friendship\, WI 53934
SUMMARY:Universe in the Park: In-Person Badger Talk in Friendship\, WI
URL;VALUE=URI:https://www.facebook.com/share/184kBAV281/
END:VEVENT
END:VCALENDAR

