BEGIN:VCALENDAR
VERSION:2.0
PRODID:icalendar-ruby
CALSCALE:GREGORIAN
BEGIN:VTIMEZONE
TZID:America/Chicago
BEGIN:DAYLIGHT
DTSTART:20260308T030000
TZOFFSETFROM:-0600
TZOFFSETTO:-0500
RRULE:FREQ=YEARLY;BYDAY=2SU;BYMONTH=3
TZNAME:CDT
END:DAYLIGHT
BEGIN:STANDARD
DTSTART:20261101T010000
TZOFFSETFROM:-0500
TZOFFSETTO:-0600
RRULE:FREQ=YEARLY;BYDAY=1SU;BYMONTH=11
TZNAME:CST
END:STANDARD
END:VTIMEZONE
BEGIN:VEVENT
DTSTAMP;TZID=America/Chicago:20260424T204904
UID:221352@calendar.wisc.edu
DTSTART;TZID=America/Chicago:20260606T200000
DTEND;TZID=America/Chicago:20260606T210000
DESCRIPTION:Presenter Erin Motherway. This is a free\, in-person rain or sh
 ine Universe in the Park event hosted on June 6\, 2026 at 8:00 PM by White
 fish Dunes State Park in Sturgeon Bay\, WI. No registration necessary for 
 this event.\nA typical UitP session begins just after sunset with a 30-40 
 minute talk and slide show about astronomy. While particular topics are le
 ft up to the presenters\, they usually give a broad overview of one or two
  astronomy topics.\n\nCONTACT: 263-7793\, badgertalks@uwmad.wisc.edu\n\nUR
 L: https://www.facebook.com/share/18ckabmse2/
LOCATION:3275 Clark Lake Rd\, Sturgeon Bay\, WI 54235-7904\, United States
SUMMARY:Universe in the Park: In-Person Badger Talk at Whitefish Dunes Stat
 e Park in Sturgeon Bay\, WI
URL;VALUE=URI:https://www.facebook.com/share/18ckabmse2/
END:VEVENT
END:VCALENDAR

