BEGIN:VCALENDAR
VERSION:2.0
PRODID:icalendar-ruby
CALSCALE:GREGORIAN
BEGIN:VTIMEZONE
TZID:America/Chicago
BEGIN:DAYLIGHT
DTSTART:20260308T030000
TZOFFSETFROM:-0600
TZOFFSETTO:-0500
RRULE:FREQ=YEARLY;BYDAY=2SU;BYMONTH=3
TZNAME:CDT
END:DAYLIGHT
BEGIN:STANDARD
DTSTART:20261101T010000
TZOFFSETFROM:-0500
TZOFFSETTO:-0600
RRULE:FREQ=YEARLY;BYDAY=1SU;BYMONTH=11
TZNAME:CST
END:STANDARD
END:VTIMEZONE
BEGIN:VEVENT
DTSTAMP;TZID=America/Chicago:20260424T220343
UID:221353@calendar.wisc.edu
DTSTART;TZID=America/Chicago:20260714T173000
DTEND;TZID=America/Chicago:20260714T183000
DESCRIPTION:Presenter Thomas Beatty. This is a free\, in-person talk hosted
  on July 14\, 2026 at 5:30 PM by Monroe Public Library in Monroe\, WI. No 
 registration necessary for this event. This talk will not be available vir
 tually.\nAre we alone in the universe? This question has been asked for ov
 er two thousand years\, and we now possess the tools and techniques necess
 ary to answer it. Presenter Thomas Beatty will discuss what we want to loo
 k for on other planets to see if there is life.\n\nCONTACT: 263-7793\, bad
 gertalks@uwmad.wisc.edu\n\nURL: https://www.facebook.com/share/1HRCDLFcEt/
LOCATION:925 16th Ave\, Monroe\, WI 53566-1763\, United States
SUMMARY:"How Can we Find Other Life in the Universe?": In-Person Badger Tal
 k in Monroe\, WI
URL;VALUE=URI:https://www.facebook.com/share/1HRCDLFcEt/
END:VEVENT
END:VCALENDAR

